BEGIN:VCALENDAR
VERSION:2.0
PRODID:-//Tim Horton - Piano - ECPv6.15.20//NONSGML v1.0//EN
CALSCALE:GREGORIAN
METHOD:PUBLISH
X-WR-CALNAME:Tim Horton - Piano
X-ORIGINAL-URL:https://timhortonpianist.co.uk
X-WR-CALDESC:Events for Tim Horton - Piano
REFRESH-INTERVAL;VALUE=DURATION:PT1H
X-Robots-Tag:noindex
X-PUBLISHED-TTL:PT1H
BEGIN:VTIMEZONE
TZID:Europe/London
BEGIN:DAYLIGHT
TZOFFSETFROM:+0000
TZOFFSETTO:+0100
TZNAME:BST
DTSTART:20250330T010000
END:DAYLIGHT
BEGIN:STANDARD
TZOFFSETFROM:+0100
TZOFFSETTO:+0000
TZNAME:GMT
DTSTART:20251026T010000
END:STANDARD
BEGIN:DAYLIGHT
TZOFFSETFROM:+0000
TZOFFSETTO:+0100
TZNAME:BST
DTSTART:20260329T010000
END:DAYLIGHT
BEGIN:STANDARD
TZOFFSETFROM:+0100
TZOFFSETTO:+0000
TZNAME:GMT
DTSTART:20261025T010000
END:STANDARD
BEGIN:DAYLIGHT
TZOFFSETFROM:+0000
TZOFFSETTO:+0100
TZNAME:BST
DTSTART:20270328T010000
END:DAYLIGHT
BEGIN:STANDARD
TZOFFSETFROM:+0100
TZOFFSETTO:+0000
TZNAME:GMT
DTSTART:20271031T010000
END:STANDARD
END:VTIMEZONE
BEGIN:VEVENT
DTSTART;TZID=Europe/London:20260419T103000
DTEND;TZID=Europe/London:20260419T103000
DTSTAMP:20260421T094406
CREATED:20250918T233955Z
LAST-MODIFIED:20260419T231817Z
UID:116014-1776594600-1776594600@timhortonpianist.co.uk
SUMMARY:Martin Randall Travel: Somerset
DESCRIPTION:Franz Schubert: Auf dem Strom\, D.943\nFranz Schubert: Der Hirt auf dem Felsen\, D. 965\nInterval\nFranz Schubert: Piano Quintet in A major\, D. 667\, The Trout
URL:https://timhortonpianist.co.uk/event/martin-randall-travel-somerset-3/
LOCATION:The Castle Hotel\, Castle Green\, Somerset\, TA1 1NF\, England
CATEGORIES:Ensemble 360,Rachel Roberts,Robert Plane,Tim Horton
ATTACH;FMTTYPE=image/jpeg:https://timhortonpianist.co.uk/wp-content/uploads/Ensemble_360_2024_ref_16_please_credit_Matthew_Johnson_and_Music_in_the_Round_11_players-1hz1Mt.jpg
END:VEVENT
BEGIN:VEVENT
DTSTART;TZID=Europe/London:20260419T173000
DTEND;TZID=Europe/London:20260419T173000
DTSTAMP:20260421T094406
CREATED:20250918T233955Z
LAST-MODIFIED:20260419T231817Z
UID:116015-1776619800-1776619800@timhortonpianist.co.uk
SUMMARY:Martin Randall Travel: Somerset
DESCRIPTION:Franz Schubert: Impromptu in F minor\, D. 935 no 1\nFranz Schubert: Twelve German Dances\, D. 790\nFranz Schubert: Impromptu in A flat major\, D. 899\, no. 4\nInterval\nFranz Schubert: Octet in F major\, D. 803
URL:https://timhortonpianist.co.uk/event/martin-randall-travel-somerset-4/
LOCATION:The Castle Hotel\, Castle Green\, Somerset\, TA1 1NF\, England
CATEGORIES:Ensemble 360,Rachel Roberts,Robert Plane,Tim Horton
ATTACH;FMTTYPE=image/jpeg:https://timhortonpianist.co.uk/wp-content/uploads/Ensemble_360_2024_ref_16_please_credit_Matthew_Johnson_and_Music_in_the_Round_11_players-1hz1Mt.jpg
END:VEVENT
END:VCALENDAR