BEGIN:VCALENDAR
VERSION:2.0
PRODID:-//Tim Horton - Piano - ECPv6.15.20//NONSGML v1.0//EN
CALSCALE:GREGORIAN
METHOD:PUBLISH
X-ORIGINAL-URL:https://timhortonpianist.co.uk
X-WR-CALDESC:Events for Tim Horton - Piano
REFRESH-INTERVAL;VALUE=DURATION:PT1H
X-Robots-Tag:noindex
X-PUBLISHED-TTL:PT1H
BEGIN:VTIMEZONE
TZID:Europe/London
BEGIN:DAYLIGHT
TZOFFSETFROM:+0000
TZOFFSETTO:+0100
TZNAME:BST
DTSTART:20230326T010000
END:DAYLIGHT
BEGIN:STANDARD
TZOFFSETFROM:+0100
TZOFFSETTO:+0000
TZNAME:GMT
DTSTART:20231029T010000
END:STANDARD
BEGIN:DAYLIGHT
TZOFFSETFROM:+0000
TZOFFSETTO:+0100
TZNAME:BST
DTSTART:20240331T010000
END:DAYLIGHT
BEGIN:STANDARD
TZOFFSETFROM:+0100
TZOFFSETTO:+0000
TZNAME:GMT
DTSTART:20241027T010000
END:STANDARD
BEGIN:DAYLIGHT
TZOFFSETFROM:+0000
TZOFFSETTO:+0100
TZNAME:BST
DTSTART:20250330T010000
END:DAYLIGHT
BEGIN:STANDARD
TZOFFSETFROM:+0100
TZOFFSETTO:+0000
TZNAME:GMT
DTSTART:20251026T010000
END:STANDARD
END:VTIMEZONE
BEGIN:VEVENT
DTSTART;TZID=Europe/London:20240805T193000
DTEND;TZID=Europe/London:20240805T193000
DTSTAMP:20260424T091704
CREATED:20240728T215249Z
LAST-MODIFIED:20240805T223155Z
UID:114352-1722886200-1722886200@timhortonpianist.co.uk
SUMMARY:Church Stretton Arts Festival: Shropshire
DESCRIPTION:Robert Schumann: Fantasiestücke for Clarinet and Piano\, op. 73Edwin York Bowen: Phantasie\, op. 54Robert Schumann: Märchenerzählungen\, op. 132IntervalHuw Watkins: Speak Seven SeasJosef Holbrooke: Nocturne\, op. 57\, no. 1\, FairylandWolfgang Amadeus Mozart: Trio for Clarinet\, Viola and Piano in E flat major\, K. 498\, Kegelstatt
URL:https://timhortonpianist.co.uk/event/church-stretton-arts-festival-shropshire/
LOCATION:St Laurence’s Church\, Church Stretton\, Church Street\, Church Stretton\, Shropshire\, SY6 6DQ\, England
CATEGORIES:Rachel Roberts,Robert Plane,Tim Horton,Trio Meister Raro
ATTACH;FMTTYPE=image/jpeg:https://timhortonpianist.co.uk/wp-content/uploads/Trio_Meister_Raro_Ref-061_please_credit_Andrei_Luca-1-SMed-FvuLAn.tmp_.jpg
END:VEVENT
END:VCALENDAR