BEGIN:VCALENDAR
VERSION:2.0
PRODID:-//Tim Horton - Piano - ECPv6.15.20//NONSGML v1.0//EN
CALSCALE:GREGORIAN
METHOD:PUBLISH
X-WR-CALNAME:Tim Horton - Piano
X-ORIGINAL-URL:https://timhortonpianist.co.uk
X-WR-CALDESC:Events for Tim Horton - Piano
REFRESH-INTERVAL;VALUE=DURATION:PT1H
X-Robots-Tag:noindex
X-PUBLISHED-TTL:PT1H
BEGIN:VTIMEZONE
TZID:Europe/London
BEGIN:DAYLIGHT
TZOFFSETFROM:+0000
TZOFFSETTO:+0100
TZNAME:BST
DTSTART:20240331T010000
END:DAYLIGHT
BEGIN:STANDARD
TZOFFSETFROM:+0100
TZOFFSETTO:+0000
TZNAME:GMT
DTSTART:20241027T010000
END:STANDARD
BEGIN:DAYLIGHT
TZOFFSETFROM:+0000
TZOFFSETTO:+0100
TZNAME:BST
DTSTART:20250330T010000
END:DAYLIGHT
BEGIN:STANDARD
TZOFFSETFROM:+0100
TZOFFSETTO:+0000
TZNAME:GMT
DTSTART:20251026T010000
END:STANDARD
BEGIN:DAYLIGHT
TZOFFSETFROM:+0000
TZOFFSETTO:+0100
TZNAME:BST
DTSTART:20260329T010000
END:DAYLIGHT
BEGIN:STANDARD
TZOFFSETFROM:+0100
TZOFFSETTO:+0000
TZNAME:GMT
DTSTART:20261025T010000
END:STANDARD
END:VTIMEZONE
BEGIN:VEVENT
DTSTART;TZID=Europe/London:20250913T193000
DTEND;TZID=Europe/London:20250913T193000
DTSTAMP:20260424T090724
CREATED:20250625T213524Z
LAST-MODIFIED:20250913T221802Z
UID:115767-1757791800-1757791800@timhortonpianist.co.uk
SUMMARY:Fressingfield Sounds: Suffolk
DESCRIPTION:Johann Sebastian Bach: Cello Suite no. 2 in D minor\, BWV 1008\nEdmund Finnis: Preludes for solo cello\nLudwig van Beethoven: Sonata in C major\, op. 102\, no.1\nInterval\nLeos Janáček: Pohádka (Fairy-tale) for cello and piano\, JW VII/5\nDmitry Shostakovich: Sonata for Cello and Piano in D minor\, op. 40
URL:https://timhortonpianist.co.uk/event/fressingfield-sounds-suffolk/
LOCATION:St Peter and St Paul\, Fressingfield\, Church St\, Suffolk\, IP21 5PE\, England
CATEGORIES:Tim Horton
ATTACH;FMTTYPE=image/jpeg:https://timhortonpianist.co.uk/wp-content/uploads/Tim_Horton_Ref_8612_Please_credit_Chris-Saunders-SMed-Cmhzw8.tmp_.jpg
END:VEVENT
BEGIN:VEVENT
DTSTART;TZID=Europe/London:20250920T190000
DTEND;TZID=Europe/London:20250920T190000
DTSTAMP:20260424T090724
CREATED:20250625T213524Z
LAST-MODIFIED:20250920T233123Z
UID:115768-1758394800-1758394800@timhortonpianist.co.uk
SUMMARY:Horsham Music Circle: West Sussex
DESCRIPTION:Franz Schubert: String Trio in B flat\, D. 471Ralph Vaughan Williams: Quintet for piano and strings in C minorIntervalFranz Schubert: Piano Quintet in A  major\, D. 667\, The Trout
URL:https://timhortonpianist.co.uk/event/horsham-music-circle-west-sussex/
LOCATION:St Mary’s Church\, Horsham\, Causeway\, Horsham\, West Sussex\, RH12 1HE\, England
CATEGORIES:Ensemble 360,Tim Horton
ATTACH;FMTTYPE=image/jpeg:https://timhortonpianist.co.uk/wp-content/uploads/Horsham-Ensemble-360-ZzRwSW.jpg
END:VEVENT
BEGIN:VEVENT
DTSTART;TZID=Europe/London:20250921T111500
DTEND;TZID=Europe/London:20250921T111500
DTSTAMP:20260424T090724
CREATED:20250811T231235Z
LAST-MODIFIED:20250921T234145Z
UID:115921-1758453300-1758453300@timhortonpianist.co.uk
SUMMARY:Oxford Coffee Concerts: Oxford
DESCRIPTION:Claude Debussy: Sonata for Violin and PianoLudwig van Beethoven: Violin Sonata no. 9 in A major\, op. 47\, Kreutzer
URL:https://timhortonpianist.co.uk/event/oxford-coffee-concerts-oxford-10/
LOCATION:Holywell Music Room\, Holywell Street\, Oxford\, OX1 3SD\, England
CATEGORIES:Tim Horton
ATTACH;FMTTYPE=image/jpeg:https://timhortonpianist.co.uk/wp-content/uploads/Benjamin_Nabarro_Please_Credit_Kaupo_Kikkas_f_KIK08681_2-QgY3EW.jpg
END:VEVENT
BEGIN:VEVENT
DTSTART;TZID=Europe/London:20250926T130000
DTEND;TZID=Europe/London:20250926T130000
DTSTAMP:20260424T090724
CREATED:20250724T233346Z
LAST-MODIFIED:20250925T235713Z
UID:115887-1758891600-1758891600@timhortonpianist.co.uk
SUMMARY:Music in the Round: Sheffield
DESCRIPTION:Wolfgang Amadeus Mozart: Sonata in E Minor\, K. 304Robert Schumann: F-A-E sonata\, II. IntermezziWolfgang Amadeus Mozart: Violin Sonata no. 18 in G major\, K. 301Robert Schumann: Sonata no. 1 for Violin and Piano in A minor\, op. 105Wolfgang Amadeus Mozart: Violin Sonata no. 22 in A major\, K. 305
URL:https://timhortonpianist.co.uk/event/music-in-the-round-sheffield-23/
LOCATION:Upper Chapel\, Norfolk Street\, Sheffield\, S1 2JD\, England
CATEGORIES:Ensemble 360,Tim Horton
ATTACH;FMTTYPE=image/png:https://timhortonpianist.co.uk/wp-content/uploads/MusicintheRoundLogo-Smed-PZrJnF.tmp_.png
END:VEVENT
BEGIN:VEVENT
DTSTART;TZID=Europe/London:20250926T190000
DTEND;TZID=Europe/London:20250926T190000
DTSTAMP:20260424T090724
CREATED:20250724T233346Z
LAST-MODIFIED:20250925T235713Z
UID:115888-1758913200-1758913200@timhortonpianist.co.uk
SUMMARY:Music in the Round: Sheffield
DESCRIPTION:Wolfgang Amadeus Mozart: Sonata in E Minor\, K. 304Robert Schumann: F-A-E sonata\, II. IntermezziWolfgang Amadeus Mozart: Violin Sonata no. 18 in G major\, K. 301Robert Schumann: Sonata no. 1 for Violin and Piano in A minor\, op. 105Wolfgang Amadeus Mozart: Violin Sonata no. 22 in A major\, K. 305
URL:https://timhortonpianist.co.uk/event/music-in-the-round-sheffield-24/
LOCATION:Upper Chapel\, Norfolk Street\, Sheffield\, S1 2JD\, England
CATEGORIES:Ensemble 360,Tim Horton
ATTACH;FMTTYPE=image/png:https://timhortonpianist.co.uk/wp-content/uploads/MusicintheRoundLogo-Smed-PZrJnF.tmp_.png
END:VEVENT
BEGIN:VEVENT
DTSTART;TZID=Europe/London:20250930T190000
DTEND;TZID=Europe/London:20250930T190000
DTSTAMP:20260424T090725
CREATED:20250813T232819Z
LAST-MODIFIED:20250930T211623Z
UID:115931-1759258800-1759258800@timhortonpianist.co.uk
SUMMARY:Music in the Round: Sheffield
DESCRIPTION:Felix Mendelssohn: Variations concertantes in D major\, op. 17Frédéric François Chopin: Piano Trio\, op. 8IntervalFelix Mendelssohn: Piano Trio no. 2 in C minor\, op. 66
URL:https://timhortonpianist.co.uk/event/music-in-the-round-sheffield-25/
LOCATION:Upper Chapel\, Norfolk Street\, Sheffield\, S1 2JD\, England
CATEGORIES:Tim Horton
ATTACH;FMTTYPE=image/jpeg:https://timhortonpianist.co.uk/wp-content/uploads/Leonore-Trio-c.-Kaupo-Kikkas-2022-KIK07931-Smed-qEwaFA.tmp_.jpg
END:VEVENT
END:VCALENDAR