BEGIN:VCALENDAR
VERSION:2.0
PRODID:-//Tim Horton - Piano - ECPv6.15.20//NONSGML v1.0//EN
CALSCALE:GREGORIAN
METHOD:PUBLISH
X-ORIGINAL-URL:https://timhortonpianist.co.uk
X-WR-CALDESC:Events for Tim Horton - Piano
REFRESH-INTERVAL;VALUE=DURATION:PT1H
X-Robots-Tag:noindex
X-PUBLISHED-TTL:PT1H
BEGIN:VTIMEZONE
TZID:Europe/London
BEGIN:DAYLIGHT
TZOFFSETFROM:+0000
TZOFFSETTO:+0100
TZNAME:BST
DTSTART:20250330T010000
END:DAYLIGHT
BEGIN:STANDARD
TZOFFSETFROM:+0100
TZOFFSETTO:+0000
TZNAME:GMT
DTSTART:20251026T010000
END:STANDARD
BEGIN:DAYLIGHT
TZOFFSETFROM:+0000
TZOFFSETTO:+0100
TZNAME:BST
DTSTART:20260329T010000
END:DAYLIGHT
BEGIN:STANDARD
TZOFFSETFROM:+0100
TZOFFSETTO:+0000
TZNAME:GMT
DTSTART:20261025T010000
END:STANDARD
BEGIN:DAYLIGHT
TZOFFSETFROM:+0000
TZOFFSETTO:+0100
TZNAME:BST
DTSTART:20270328T010000
END:DAYLIGHT
BEGIN:STANDARD
TZOFFSETFROM:+0100
TZOFFSETTO:+0000
TZNAME:GMT
DTSTART:20271031T010000
END:STANDARD
END:VTIMEZONE
BEGIN:VEVENT
DTSTART;TZID=Europe/London:20261205T140000
DTEND;TZID=Europe/London:20261205T140000
DTSTAMP:20260422T145607
CREATED:20260123T220804Z
LAST-MODIFIED:20260421T232112Z
UID:116438-1796479200-1796479200@timhortonpianist.co.uk
SUMMARY:Music in the Round: Sheffield
DESCRIPTION:Ludwig van Beethoven: Piano Sonata no. 1 in F minor\, op. 2\, no. 1Ludwig van Beethoven: Piano Sonata no. 3 in C major\, op. 2\, no. 3IntervalLudwig van Beethoven: Piano Sonata no. 2 in A major\, op. 2\, no. 2Ludwig van Beethoven: Piano Sonata no. 23 in F minor\, op. 57\, Appassionata
URL:https://timhortonpianist.co.uk/event/music-in-the-round-sheffield-31/
LOCATION:Crucible Playhouse\, Crucible Theatre\, Sheffield\, S1 1DA\, England
CATEGORIES:Tim Horton
ATTACH;FMTTYPE=image/jpeg:https://timhortonpianist.co.uk/wp-content/uploads/Tim_Horton_Ref_07633_Please_credit_Andrej_Grilc-FiDSTu.jpg
END:VEVENT
BEGIN:VEVENT
DTSTART;TZID=Europe/London:20261207T130000
DTEND;TZID=Europe/London:20261207T130000
DTSTAMP:20260422T145607
CREATED:20260416T230050Z
LAST-MODIFIED:20260421T232158Z
UID:116613-1796648400-1796648400@timhortonpianist.co.uk
SUMMARY:Wigmore Hall: London
DESCRIPTION:with Lawrence Power (viola) \nJosef Suk: Piano Quartet in A minor\, op. 1William Walton: Piano Quartet in D minor
URL:https://timhortonpianist.co.uk/event/wigmore-hall-london-13/
LOCATION:Wigmore Hall\, Wigmore Street\, London\, W1U 2BP\, England
CATEGORIES:Tim Horton
ATTACH;FMTTYPE=image/jpeg:https://timhortonpianist.co.uk/wp-content/uploads/Leonore-Trio-c.-Kaupo-Kikkas-2022-KIK07931-Smed-qEwaFA.tmp_.jpg
END:VEVENT
BEGIN:VEVENT
DTSTART;TZID=Europe/London:20261227T193000
DTEND;TZID=Europe/London:20261227T193000
DTSTAMP:20260422T145607
CREATED:20260416T230055Z
LAST-MODIFIED:20260421T232158Z
UID:116614-1798399800-1798399800@timhortonpianist.co.uk
SUMMARY:Wigmore Hall: London
DESCRIPTION:Huw Watkins: Piano Trio no. 2Johannes Brahms: Piano Trio no. 2 in C major\, op. 87IntervalRobert Schumann: Piano Trio no. 3 in G minor\, op. 110
URL:https://timhortonpianist.co.uk/event/wigmore-hall-london-14/
LOCATION:Wigmore Hall\, Wigmore Street\, London\, W1U 2BP\, England
CATEGORIES:Tim Horton
ATTACH;FMTTYPE=image/jpeg:https://timhortonpianist.co.uk/wp-content/uploads/Leonore-Trio-c.-Kaupo-Kikkas-2022-KIK07931-Smed-qEwaFA.tmp_.jpg
END:VEVENT
END:VCALENDAR