BEGIN:VCALENDAR
VERSION:2.0
PRODID:-//Tim Horton - Piano - ECPv6.15.20//NONSGML v1.0//EN
CALSCALE:GREGORIAN
METHOD:PUBLISH
X-ORIGINAL-URL:https://timhortonpianist.co.uk
X-WR-CALDESC:Events for Tim Horton - Piano
REFRESH-INTERVAL;VALUE=DURATION:PT1H
X-Robots-Tag:noindex
X-PUBLISHED-TTL:PT1H
BEGIN:VTIMEZONE
TZID:Europe/London
BEGIN:DAYLIGHT
TZOFFSETFROM:+0000
TZOFFSETTO:+0100
TZNAME:BST
DTSTART:20250330T010000
END:DAYLIGHT
BEGIN:STANDARD
TZOFFSETFROM:+0100
TZOFFSETTO:+0000
TZNAME:GMT
DTSTART:20251026T010000
END:STANDARD
BEGIN:DAYLIGHT
TZOFFSETFROM:+0000
TZOFFSETTO:+0100
TZNAME:BST
DTSTART:20260329T010000
END:DAYLIGHT
BEGIN:STANDARD
TZOFFSETFROM:+0100
TZOFFSETTO:+0000
TZNAME:GMT
DTSTART:20261025T010000
END:STANDARD
BEGIN:DAYLIGHT
TZOFFSETFROM:+0000
TZOFFSETTO:+0100
TZNAME:BST
DTSTART:20270328T010000
END:DAYLIGHT
BEGIN:STANDARD
TZOFFSETFROM:+0100
TZOFFSETTO:+0000
TZNAME:GMT
DTSTART:20271031T010000
END:STANDARD
END:VTIMEZONE
BEGIN:VEVENT
DTSTART;TZID=Europe/London:20261009T193000
DTEND;TZID=Europe/London:20261009T193000
DTSTAMP:20260421T140819
CREATED:20260209T223425Z
LAST-MODIFIED:20260420T231835Z
UID:116482-1791574200-1791574200@timhortonpianist.co.uk
SUMMARY:Brigantes Orchestra: Sheffield
DESCRIPTION:Programme to include: Witold Lutosławski: Dance PreludesWitold Lutosławski: Variations on a Theme by PaganiniSergey Rachmaninov: Rhapsody on a Theme of Paganini op. 43
URL:https://timhortonpianist.co.uk/event/brigantes-orchestra-sheffield-2/
LOCATION:Sheffield Cathedral\, Church Street\, Sheffield\, S1 1HA\, England
CATEGORIES:Tim Horton
ATTACH;FMTTYPE=image/jpeg:https://timhortonpianist.co.uk/wp-content/uploads/Tim_Horton_Ref_07609_Please_credit_Andrej_Grilc-0SqPou.jpg
END:VEVENT
END:VCALENDAR