BEGIN:VCALENDAR
VERSION:2.0
PRODID:-//Tim Horton - Piano - ECPv6.15.20//NONSGML v1.0//EN
CALSCALE:GREGORIAN
METHOD:PUBLISH
X-ORIGINAL-URL:https://timhortonpianist.co.uk
X-WR-CALDESC:Events for Tim Horton - Piano
REFRESH-INTERVAL;VALUE=DURATION:PT1H
X-Robots-Tag:noindex
X-PUBLISHED-TTL:PT1H
BEGIN:VTIMEZONE
TZID:Europe/London
BEGIN:DAYLIGHT
TZOFFSETFROM:+0000
TZOFFSETTO:+0100
TZNAME:BST
DTSTART:20260329T010000
END:DAYLIGHT
BEGIN:STANDARD
TZOFFSETFROM:+0100
TZOFFSETTO:+0000
TZNAME:GMT
DTSTART:20261025T010000
END:STANDARD
BEGIN:DAYLIGHT
TZOFFSETFROM:+0000
TZOFFSETTO:+0100
TZNAME:BST
DTSTART:20270328T010000
END:DAYLIGHT
BEGIN:STANDARD
TZOFFSETFROM:+0100
TZOFFSETTO:+0000
TZNAME:GMT
DTSTART:20271031T010000
END:STANDARD
BEGIN:DAYLIGHT
TZOFFSETFROM:+0000
TZOFFSETTO:+0100
TZNAME:BST
DTSTART:20280326T010000
END:DAYLIGHT
BEGIN:STANDARD
TZOFFSETFROM:+0100
TZOFFSETTO:+0000
TZNAME:GMT
DTSTART:20281029T010000
END:STANDARD
END:VTIMEZONE
BEGIN:VEVENT
DTSTART;TZID=Europe/London:20270219T190000
DTEND;TZID=Europe/London:20270219T190000
DTSTAMP:20260423T103627
CREATED:20260301T122730Z
LAST-MODIFIED:20260422T231817Z
UID:116516-1803063600-1803063600@timhortonpianist.co.uk
SUMMARY:Music in the Round: Barnsley
DESCRIPTION:Ludwig van Beethoven: Piano Sonata no. 9 in E major\, op. 14\, no. 1Ludwig van Beethoven: Piano Sonata no. 20 in G major\, op. 49\, no. 2Ludwig van Beethoven: Piano Sonata no. 4 in E flat major\, op. 7\, Grand SonataIntervalLudwig van Beethoven: Piano Sonata no. 10 in G major\, op. 14\, no. 2Ludwig van Beethoven: Piano Sonata no. 19 in G minor\, op. 49\, no. 1Ludwig van Beethoven: Piano Sonata no. 8 in C minor\, op. 13\, Pathétique
URL:https://timhortonpianist.co.uk/event/music-in-the-round-barnsley-6/
LOCATION:Emmanuel Church\, Barnsley\, Huddersfield Road\, Barnsley\, S75 1DT\, England
CATEGORIES:Tim Horton
ATTACH;FMTTYPE=image/jpeg:https://timhortonpianist.co.uk/wp-content/uploads/Tim_Horton_Ref_07636_Please_credit_Andrej_Grilc-mStGtm.jpg
END:VEVENT
END:VCALENDAR